Package: lemur Version: 1.4.0 Command: rm -rf lemur.buildbin-libdir && mkdir lemur.buildbin-libdir && /Users/biocbuild/BBS/utils/build-universal.sh lemur_1.4.0.tar.gz /Library/Frameworks/R.framework/Resources/bin/R lemur.buildbin-libdir StartedAt: 2025-02-05 16:25:11 -0500 (Wed, 05 Feb 2025) EndedAt: 2025-02-05 16:25:55 -0500 (Wed, 05 Feb 2025) EllapsedTime: 44.0 seconds RetCode: 0 Status: OK PackageFile: lemur_1.4.0.tgz PackageFileSize: 3.834 MiB