Package: lemur Version: 1.4.0 Command: /Library/Frameworks/R.framework/Resources/bin/R CMD build --keep-empty-dirs --no-resave-data lemur StartedAt: 2025-02-04 02:15:27 -0500 (Tue, 04 Feb 2025) EndedAt: 2025-02-04 02:17:35 -0500 (Tue, 04 Feb 2025) EllapsedTime: 127.9 seconds RetCode: 0 Status: OK PackageFile: lemur_1.4.0.tar.gz PackageFileSize: 3.529 MiB