Package: lemur Version: 1.4.0 Command: /Library/Frameworks/R.framework/Resources/bin/R CMD INSTALL lemur StartedAt: 2025-02-03 15:35:14 -0500 (Mon, 03 Feb 2025) EndedAt: 2025-02-03 15:35:34 -0500 (Mon, 03 Feb 2025) EllapsedTime: 20.2 seconds RetCode: 0 Status: OK