Package: lemur
Version: 1.3.2
Command: C:\Users\biocbuild\bbs-3.20-bioc\R\bin\R.exe CMD INSTALL lemur
StartedAt: 2024-07-15 15:34:33 -0400 (Mon, 15 Jul 2024)
EndedAt: 2024-07-15 15:35:32 -0400 (Mon, 15 Jul 2024)
EllapsedTime: 58.7 seconds
RetCode: 0
Status: OK