Package: lemur Version: 1.4.0 Command: /home/biocbuild/R/R/bin/R CMD build --keep-empty-dirs --no-resave-data lemur StartedAt: 2025-02-04 00:33:20 -0000 (Tue, 04 Feb 2025) EndedAt: 2025-02-04 00:35:27 -0000 (Tue, 04 Feb 2025) EllapsedTime: 127.0 seconds RetCode: 0 Status: OK PackageFile: lemur_1.4.0.tar.gz PackageFileSize: 3.332 MiB