Package: lemur Version: 1.4.0 Command: /home/biocbuild/R/R/bin/R CMD INSTALL lemur StartedAt: 2025-02-03 20:36:41 -0000 (Mon, 03 Feb 2025) EndedAt: 2025-02-03 20:37:34 -0000 (Mon, 03 Feb 2025) EllapsedTime: 53.3 seconds RetCode: 0 Status: OK