Package: levi Version: 1.24.0 Command: /Library/Frameworks/R.framework/Resources/bin/R CMD check --install=check:levi.install-out.txt --library=/Library/Frameworks/R.framework/Resources/library --no-vignettes --timings levi_1.24.0.tar.gz StartedAt: 2025-02-04 23:53:32 -0500 (Tue, 04 Feb 2025) EndedAt: 2025-02-04 23:55:13 -0500 (Tue, 04 Feb 2025) EllapsedTime: 101.3 seconds RetCode: 0 Status: WARNINGS CheckDir: levi.Rcheck Warnings: 1