Package: levi Version: 1.24.0 Command: rm -rf levi.buildbin-libdir && mkdir levi.buildbin-libdir && /Users/biocbuild/BBS/utils/build-universal.sh levi_1.24.0.tar.gz /Library/Frameworks/R.framework/Resources/bin/R levi.buildbin-libdir StartedAt: 2025-02-04 13:16:32 -0500 (Tue, 04 Feb 2025) EndedAt: 2025-02-04 13:17:50 -0500 (Tue, 04 Feb 2025) EllapsedTime: 78.1 seconds RetCode: 0 Status: OK PackageFile: levi_1.24.0.tgz PackageFileSize: 2.353 MiB