Package: levi Version: 1.24.0 Command: /home/biocbuild/R/R/bin/R CMD build --keep-empty-dirs --no-resave-data levi StartedAt: 2025-02-04 00:33:48 -0000 (Tue, 04 Feb 2025) EndedAt: 2025-02-04 00:36:51 -0000 (Tue, 04 Feb 2025) EllapsedTime: 183.1 seconds RetCode: 0 Status: OK PackageFile: levi_1.24.0.tar.gz PackageFileSize: 2.24 MiB