Package: lfa Version: 2.6.0 Command: rm -rf lfa.buildbin-libdir && mkdir lfa.buildbin-libdir && /Users/biocbuild/BBS/utils/build-universal.sh lfa_2.6.0.tar.gz /Library/Frameworks/R.framework/Resources/bin/R lfa.buildbin-libdir StartedAt: 2025-02-01 15:29:47 -0500 (Sat, 01 Feb 2025) EndedAt: 2025-02-01 15:29:54 -0500 (Sat, 01 Feb 2025) EllapsedTime: 6.6 seconds RetCode: 0 Status: OK PackageFile: lfa_2.6.0.tgz PackageFileSize: 502 KiB