Package: lfa Version: 2.6.0 Command: /Library/Frameworks/R.framework/Resources/bin/R CMD build --keep-empty-dirs --no-resave-data lfa StartedAt: 2025-01-31 02:14:23 -0500 (Fri, 31 Jan 2025) EndedAt: 2025-01-31 02:14:40 -0500 (Fri, 31 Jan 2025) EllapsedTime: 17.3 seconds RetCode: 0 Status: OK PackageFile: lfa_2.6.0.tar.gz PackageFileSize: 341 KiB