Package: lfa Version: 2.6.0 Command: rm -rf lfa.buildbin-libdir && mkdir lfa.buildbin-libdir && /Users/biocbuild/BBS/utils/build-universal.sh lfa_2.6.0.tar.gz /Library/Frameworks/R.framework/Resources/bin/R lfa.buildbin-libdir StartedAt: 2024-11-09 16:56:02 -0500 (Sat, 09 Nov 2024) EndedAt: 2024-11-09 16:56:05 -0500 (Sat, 09 Nov 2024) EllapsedTime: 2.0 seconds RetCode: 0 Status: OK PackageFile: lfa_2.6.0.tgz PackageFileSize: 503.7 KiB