Package: lfa Version: 2.6.0 Command: /Library/Frameworks/R.framework/Resources/bin/R CMD INSTALL lfa StartedAt: 2024-11-08 15:13:17 -0500 (Fri, 08 Nov 2024) EndedAt: 2024-11-08 15:13:19 -0500 (Fri, 08 Nov 2024) EllapsedTime: 2.3 seconds RetCode: 0 Status: OK