Package: lfa Version: 2.6.0 Command: rm -rf lfa.buildbin-libdir && mkdir lfa.buildbin-libdir && /Users/biocbuild/BBS/utils/build-universal.sh lfa_2.6.0.tar.gz /Library/Frameworks/R.framework/Resources/bin/R lfa.buildbin-libdir StartedAt: 2025-01-31 13:03:46 -0500 (Fri, 31 Jan 2025) EndedAt: 2025-01-31 13:03:56 -0500 (Fri, 31 Jan 2025) EllapsedTime: 9.9 seconds RetCode: 0 Status: OK PackageFile: lfa_2.6.0.tgz PackageFileSize: 502.8 KiB