Package: lfa Version: 2.6.0 Command: /Library/Frameworks/R.framework/Resources/bin/R CMD build --keep-empty-dirs --no-resave-data lfa StartedAt: 2025-01-30 20:12:57 -0500 (Thu, 30 Jan 2025) EndedAt: 2025-01-30 20:13:28 -0500 (Thu, 30 Jan 2025) EllapsedTime: 30.8 seconds RetCode: 0 Status: OK PackageFile: lfa_2.6.0.tar.gz PackageFileSize: 340.8 KiB