Package: lfa Version: 2.6.0 Command: /Library/Frameworks/R.framework/Resources/bin/R CMD INSTALL lfa StartedAt: 2025-01-30 15:08:18 -0500 (Thu, 30 Jan 2025) EndedAt: 2025-01-30 15:09:08 -0500 (Thu, 30 Jan 2025) EllapsedTime: 49.9 seconds RetCode: 0 Status: OK