Package: lfa Version: 2.6.0 Command: /home/biocbuild/bbs-3.20-bioc/R/bin/R CMD check --install=check:lfa.install-out.txt --library=/home/biocbuild/bbs-3.20-bioc/R/site-library --timings lfa_2.6.0.tar.gz StartedAt: 2025-01-30 23:28:07 -0500 (Thu, 30 Jan 2025) EndedAt: 2025-01-30 23:28:45 -0500 (Thu, 30 Jan 2025) EllapsedTime: 38.1 seconds RetCode: 0 Status: OK CheckDir: lfa.Rcheck Warnings: 0