Package: lfa Version: 2.6.0 Command: rm -rf lfa.buildbin-libdir && mkdir lfa.buildbin-libdir && F:\biocbuild\bbs-3.20-bioc\R\bin\R.exe CMD INSTALL --build --library=lfa.buildbin-libdir lfa_2.6.0.tar.gz StartedAt: 2025-01-31 08:56:02 -0500 (Fri, 31 Jan 2025) EndedAt: 2025-01-31 08:56:16 -0500 (Fri, 31 Jan 2025) EllapsedTime: 14.1 seconds RetCode: 0 Status: OK PackageFile: lfa_2.6.0.zip PackageFileSize: 521.8 KiB