Package: lfa Version: 2.6.0 Command: chmod a+r lfa -R && F:\biocbuild\bbs-3.20-bioc\R\bin\R.exe CMD build --keep-empty-dirs --no-resave-data lfa StartedAt: 2025-01-30 19:47:56 -0500 (Thu, 30 Jan 2025) EndedAt: 2025-01-30 19:48:21 -0500 (Thu, 30 Jan 2025) EllapsedTime: 25.1 seconds RetCode: 0 Status: OK PackageFile: lfa_2.6.0.tar.gz PackageFileSize: 341.6 KiB