Package: lfa Version: 2.6.0 Command: /home/biocbuild/R/R/bin/R CMD build --keep-empty-dirs --no-resave-data lfa StartedAt: 2025-01-31 00:33:03 -0000 (Fri, 31 Jan 2025) EndedAt: 2025-01-31 00:33:13 -0000 (Fri, 31 Jan 2025) EllapsedTime: 10.0 seconds RetCode: 0 Status: OK PackageFile: lfa_2.6.0.tar.gz PackageFileSize: 336.5 KiB