Package: lfa Version: 2.6.0 Command: /home/biocbuild/bbs-3.20-bioc/R/bin/R CMD INSTALL lfa StartedAt: 2024-11-19 15:13:52 -0500 (Tue, 19 Nov 2024) EndedAt: 2024-11-19 15:13:55 -0500 (Tue, 19 Nov 2024) EllapsedTime: 3.3 seconds RetCode: 0 Status: OK