Package: limma Version: 3.62.2 Maintainer: Gordon Smyth MaintainerEmail: smyth at wehi.edu.au git_url: https://git.bioconductor.org/packages/limma git_branch: RELEASE_3_20 git_last_commit: 5d5c76a git_last_commit_date: 2025-01-09 00:39:35 -0500 (Thu, 09 Jan 2025)