Package: limma Version: 3.62.2 Command: /Library/Frameworks/R.framework/Resources/bin/R CMD build --keep-empty-dirs --no-resave-data limma StartedAt: 2025-01-31 02:14:25 -0500 (Fri, 31 Jan 2025) EndedAt: 2025-01-31 02:14:57 -0500 (Fri, 31 Jan 2025) EllapsedTime: 32.1 seconds RetCode: 0 Status: OK PackageFile: limma_3.62.2.tar.gz PackageFileSize: 2.685 MiB