Package: limma Version: 3.62.2 Command: rm -rf limma.buildbin-libdir && mkdir limma.buildbin-libdir && /Users/biocbuild/BBS/utils/build-universal.sh limma_3.62.2.tar.gz /Library/Frameworks/R.framework/Resources/bin/R limma.buildbin-libdir StartedAt: 2025-01-31 13:03:55 -0500 (Fri, 31 Jan 2025) EndedAt: 2025-01-31 13:04:42 -0500 (Fri, 31 Jan 2025) EllapsedTime: 47.1 seconds RetCode: 0 Status: OK PackageFile: limma_3.62.2.tgz PackageFileSize: 2.948 MiB