Package: limma Version: 3.62.2 Command: /Library/Frameworks/R.framework/Resources/bin/R CMD build --keep-empty-dirs --no-resave-data limma StartedAt: 2025-01-30 20:13:12 -0500 (Thu, 30 Jan 2025) EndedAt: 2025-01-30 20:14:31 -0500 (Thu, 30 Jan 2025) EllapsedTime: 79.0 seconds RetCode: 0 Status: OK PackageFile: limma_3.62.2.tar.gz PackageFileSize: 2.685 MiB