Package: limma Version: 3.62.2 Command: /home/biocbuild/bbs-3.20-bioc/R/bin/R CMD INSTALL limma StartedAt: 2025-01-30 15:07:23 -0500 (Thu, 30 Jan 2025) EndedAt: 2025-01-30 15:07:42 -0500 (Thu, 30 Jan 2025) EllapsedTime: 19.8 seconds RetCode: 0 Status: OK