Package: limma Version: 3.62.2 Command: rm -rf limma.buildbin-libdir && mkdir limma.buildbin-libdir && F:\biocbuild\bbs-3.20-bioc\R\bin\R.exe CMD INSTALL --build --library=limma.buildbin-libdir limma_3.62.2.tar.gz StartedAt: 2025-01-31 08:56:06 -0500 (Fri, 31 Jan 2025) EndedAt: 2025-01-31 08:57:56 -0500 (Fri, 31 Jan 2025) EllapsedTime: 109.5 seconds RetCode: 0 Status: OK PackageFile: limma_3.62.2.zip PackageFileSize: 2.994 MiB