Package: lionessR Version: 1.20.0 Command: rm -rf lionessR.buildbin-libdir && mkdir lionessR.buildbin-libdir && /Users/biocbuild/BBS/utils/build-universal.sh lionessR_1.20.0.tar.gz /Library/Frameworks/R.framework/Resources/bin/R lionessR.buildbin-libdir StartedAt: 2025-02-01 15:30:23 -0500 (Sat, 01 Feb 2025) EndedAt: 2025-02-01 15:30:28 -0500 (Sat, 01 Feb 2025) EllapsedTime: 4.4 seconds RetCode: 0 Status: OK PackageFile: lionessR_1.20.0.tgz PackageFileSize: 3.433 MiB