Package: lionessR Version: 1.20.0 Command: /Library/Frameworks/R.framework/Resources/bin/R CMD build --keep-empty-dirs --no-resave-data lionessR StartedAt: 2025-01-30 20:13:59 -0500 (Thu, 30 Jan 2025) EndedAt: 2025-01-30 20:14:42 -0500 (Thu, 30 Jan 2025) EllapsedTime: 42.7 seconds RetCode: 0 Status: OK PackageFile: lionessR_1.20.0.tar.gz PackageFileSize: 2.848 MiB