Package: lionessR Version: 1.20.0 Command: /home/biocbuild/bbs-3.20-bioc/R/bin/R CMD check --install=check:lionessR.install-out.txt --library=/home/biocbuild/bbs-3.20-bioc/R/site-library --timings lionessR_1.20.0.tar.gz StartedAt: 2025-01-30 23:29:01 -0500 (Thu, 30 Jan 2025) EndedAt: 2025-01-30 23:29:44 -0500 (Thu, 30 Jan 2025) EllapsedTime: 43.1 seconds RetCode: 0 Status: OK CheckDir: lionessR.Rcheck Warnings: 0