Package: lionessR Version: 1.20.0 Command: chmod a+r lionessR -R && F:\biocbuild\bbs-3.20-bioc\R\bin\R.exe CMD build --keep-empty-dirs --no-resave-data lionessR StartedAt: 2025-01-30 19:48:55 -0500 (Thu, 30 Jan 2025) EndedAt: 2025-01-30 19:49:21 -0500 (Thu, 30 Jan 2025) EllapsedTime: 26.1 seconds RetCode: 0 Status: OK PackageFile: lionessR_1.20.0.tar.gz PackageFileSize: 2.771 MiB