Package: lionessR Version: 1.20.0 Command: F:\biocbuild\bbs-3.20-bioc\R\bin\R.exe CMD INSTALL lionessR StartedAt: 2025-01-30 16:07:45 -0500 (Thu, 30 Jan 2025) EndedAt: 2025-01-30 16:07:51 -0500 (Thu, 30 Jan 2025) EllapsedTime: 6.1 seconds RetCode: 0 Status: OK