Package: lionessR Version: 1.20.0 Command: /home/biocbuild/R/R/bin/R CMD check --install=check:lionessR.install-out.txt --library=/home/biocbuild/R/R/site-library --no-vignettes --timings lionessR_1.20.0.tar.gz StartedAt: 2025-01-31 07:37:58 -0000 (Fri, 31 Jan 2025) EndedAt: 2025-01-31 07:38:29 -0000 (Fri, 31 Jan 2025) EllapsedTime: 31.0 seconds RetCode: 0 Status: OK CheckDir: lionessR.Rcheck Warnings: 0