Package: lionessR Version: 1.20.0 Command: /home/biocbuild/R/R/bin/R CMD INSTALL lionessR StartedAt: 2025-01-30 20:19:02 -0000 (Thu, 30 Jan 2025) EndedAt: 2025-01-30 20:19:10 -0000 (Thu, 30 Jan 2025) EllapsedTime: 7.4 seconds RetCode: 0 Status: OK