Package: lipidr Version: 2.20.0 Command: rm -rf lipidr.buildbin-libdir && mkdir lipidr.buildbin-libdir && /Users/biocbuild/BBS/utils/build-universal.sh lipidr_2.20.0.tar.gz /Library/Frameworks/R.framework/Resources/bin/R lipidr.buildbin-libdir StartedAt: 2025-02-05 16:25:59 -0500 (Wed, 05 Feb 2025) EndedAt: 2025-02-05 16:26:36 -0500 (Wed, 05 Feb 2025) EllapsedTime: 36.5 seconds RetCode: 0 Status: OK PackageFile: lipidr_2.20.0.tgz PackageFileSize: 3.538 MiB