Package: lipidr Version: 2.20.0 Command: /Library/Frameworks/R.framework/Resources/bin/R CMD build --keep-empty-dirs --no-resave-data lipidr StartedAt: 2025-02-04 02:19:05 -0500 (Tue, 04 Feb 2025) EndedAt: 2025-02-04 02:20:11 -0500 (Tue, 04 Feb 2025) EllapsedTime: 65.7 seconds RetCode: 0 Status: OK PackageFile: lipidr_2.20.0.tar.gz PackageFileSize: 3.392 MiB