Package: lipidr Version: 2.20.0 Command: rm -rf lipidr.buildbin-libdir && mkdir lipidr.buildbin-libdir && /Users/biocbuild/BBS/utils/build-universal.sh lipidr_2.20.0.tar.gz /Library/Frameworks/R.framework/Resources/bin/R lipidr.buildbin-libdir StartedAt: 2025-02-18 12:25:28 -0500 (Tue, 18 Feb 2025) EndedAt: 2025-02-18 12:26:31 -0500 (Tue, 18 Feb 2025) EllapsedTime: 63.3 seconds RetCode: 0 Status: OK PackageFile: lipidr_2.20.0.tgz PackageFileSize: 3.537 <A href="http://en.wikipedia.org/wiki/MiB" target="_blank">MiB</A>