Package: lipidr Version: 2.20.0 Command: /Library/Frameworks/R.framework/Resources/bin/R CMD INSTALL lipidr StartedAt: 2025-02-03 16:40:09 -0500 (Mon, 03 Feb 2025) EndedAt: 2025-02-03 16:41:10 -0500 (Mon, 03 Feb 2025) EllapsedTime: 60.5 seconds RetCode: 0 Status: OK