Package: lipidr Version: 2.20.0 Command: /home/biocbuild/bbs-3.20-bioc/R/bin/R CMD check --install=check:lipidr.install-out.txt --library=/home/biocbuild/bbs-3.20-bioc/R/site-library --timings lipidr_2.20.0.tar.gz StartedAt: 2025-02-03 23:39:31 -0500 (Mon, 03 Feb 2025) EndedAt: 2025-02-03 23:44:13 -0500 (Mon, 03 Feb 2025) EllapsedTime: 281.4 seconds RetCode: 0 Status: OK CheckDir: lipidr.Rcheck Warnings: 0