Package: lipidr Version: 2.20.0 Command: /home/biocbuild/bbs-3.20-bioc/R/bin/R CMD INSTALL lipidr StartedAt: 2025-02-03 16:03:37 -0500 (Mon, 03 Feb 2025) EndedAt: 2025-02-03 16:04:09 -0500 (Mon, 03 Feb 2025) EllapsedTime: 31.7 seconds RetCode: 0 Status: OK