Package: lipidr Version: 2.20.0 Command: rm -rf lipidr.buildbin-libdir && mkdir lipidr.buildbin-libdir && F:\biocbuild\bbs-3.20-bioc\R\bin\R.exe CMD INSTALL --build --library=lipidr.buildbin-libdir lipidr_2.20.0.tar.gz StartedAt: 2025-02-04 08:48:47 -0500 (Tue, 04 Feb 2025) EndedAt: 2025-02-04 08:49:38 -0500 (Tue, 04 Feb 2025) EllapsedTime: 50.4 seconds RetCode: 0 Status: OK PackageFile: lipidr_2.20.0.zip PackageFileSize: 2.565 MiB