Package: lipidr Version: 2.20.0 Command: chmod a+r lipidr -R && F:\biocbuild\bbs-3.20-bioc\R\bin\R.exe CMD build --keep-empty-dirs --no-resave-data lipidr StartedAt: 2025-02-03 20:03:17 -0500 (Mon, 03 Feb 2025) EndedAt: 2025-02-03 20:04:39 -0500 (Mon, 03 Feb 2025) EllapsedTime: 82.0 seconds RetCode: 0 Status: OK PackageFile: lipidr_2.20.0.tar.gz PackageFileSize: 2.422 MiB