Package: lipidr Version: 2.20.0 Command: F:\biocbuild\bbs-3.20-bioc\R\bin\R.exe CMD INSTALL lipidr StartedAt: 2025-02-03 17:10:49 -0500 (Mon, 03 Feb 2025) EndedAt: 2025-02-03 17:11:40 -0500 (Mon, 03 Feb 2025) EllapsedTime: 50.5 seconds RetCode: 0 Status: OK