Package: lipidr Version: 2.20.0 Command: /home/biocbuild/R/R/bin/R CMD build --keep-empty-dirs --no-resave-data lipidr StartedAt: 2025-02-04 00:34:51 -0000 (Tue, 04 Feb 2025) EndedAt: 2025-02-04 00:36:00 -0000 (Tue, 04 Feb 2025) EllapsedTime: 69.0 seconds RetCode: 0 Status: OK PackageFile: lipidr_2.20.0.tar.gz PackageFileSize: 2.434 MiB