Package: lipidr Version: 2.20.0 Command: /home/biocbuild/R/R/bin/R CMD check --install=check:lipidr.install-out.txt --library=/home/biocbuild/R/R/site-library --no-vignettes --timings lipidr_2.20.0.tar.gz StartedAt: 2025-02-04 08:20:14 -0000 (Tue, 04 Feb 2025) EndedAt: 2025-02-04 08:25:35 -0000 (Tue, 04 Feb 2025) EllapsedTime: 320.6 seconds RetCode: 0 Status: OK CheckDir: lipidr.Rcheck Warnings: 0