Package: lisaClust Version: 1.14.4 Command: rm -rf lisaClust.buildbin-libdir && mkdir lisaClust.buildbin-libdir && F:\biocbuild\bbs-3.20-bioc\R\bin\R.exe CMD INSTALL --build --library=lisaClust.buildbin-libdir lisaClust_1.14.4.tar.gz StartedAt: 2025-02-04 08:48:51 -0500 (Tue, 04 Feb 2025) EndedAt: 2025-02-04 08:49:34 -0500 (Tue, 04 Feb 2025) EllapsedTime: 43.1 seconds RetCode: 0 Status: OK PackageFile: lisaClust_1.14.4.zip PackageFileSize: 939.6 KiB