Package: lisaClust Version: 1.14.4 Command: /home/biocbuild/R/R/bin/R CMD INSTALL lisaClust StartedAt: 2025-02-03 21:22:54 -0000 (Mon, 03 Feb 2025) EndedAt: 2025-02-03 21:22:55 -0000 (Mon, 03 Feb 2025) EllapsedTime: 1.1 seconds RetCode: 1 Status: ERROR