Package: loci2path Version: 1.26.0 Command: rm -rf loci2path.buildbin-libdir && mkdir loci2path.buildbin-libdir && /Users/biocbuild/BBS/utils/build-universal.sh loci2path_1.26.0.tar.gz /Library/Frameworks/R.framework/Resources/bin/R loci2path.buildbin-libdir StartedAt: 2025-02-05 16:26:19 -0500 (Wed, 05 Feb 2025) EndedAt: 2025-02-05 16:26:36 -0500 (Wed, 05 Feb 2025) EllapsedTime: 16.6 seconds RetCode: 0 Status: OK PackageFile: loci2path_1.26.0.tgz PackageFileSize: 811.1 KiB