Package: loci2path Version: 1.26.0 Command: /Library/Frameworks/R.framework/Resources/bin/R CMD INSTALL loci2path StartedAt: 2025-02-03 15:36:50 -0500 (Mon, 03 Feb 2025) EndedAt: 2025-02-03 15:37:16 -0500 (Mon, 03 Feb 2025) EllapsedTime: 25.5 seconds RetCode: 0 Status: OK