Package: loci2path Version: 1.26.0 Command: rm -rf loci2path.buildbin-libdir && mkdir loci2path.buildbin-libdir && F:\biocbuild\bbs-3.20-bioc\R\bin\R.exe CMD INSTALL --build --library=loci2path.buildbin-libdir loci2path_1.26.0.tar.gz StartedAt: 2025-02-04 08:48:56 -0500 (Tue, 04 Feb 2025) EndedAt: 2025-02-04 08:49:45 -0500 (Tue, 04 Feb 2025) EllapsedTime: 49.3 seconds RetCode: 0 Status: OK PackageFile: loci2path_1.26.0.zip PackageFileSize: 730.1 KiB